BEGIN:VCALENDAR
VERSION:2.0
PRODID:-//Fire Hogs M/C - ECPv6.15.20//NONSGML v1.0//EN
CALSCALE:GREGORIAN
METHOD:PUBLISH
X-ORIGINAL-URL:https://www.firehogs.org
X-WR-CALDESC:Events for Fire Hogs M/C
REFRESH-INTERVAL;VALUE=DURATION:PT1H
X-Robots-Tag:noindex
X-PUBLISHED-TTL:PT1H
BEGIN:VTIMEZONE
TZID:America/Los_Angeles
BEGIN:DAYLIGHT
TZOFFSETFROM:-0800
TZOFFSETTO:-0700
TZNAME:PDT
DTSTART:20250309T100000
END:DAYLIGHT
BEGIN:STANDARD
TZOFFSETFROM:-0700
TZOFFSETTO:-0800
TZNAME:PST
DTSTART:20251102T090000
END:STANDARD
BEGIN:DAYLIGHT
TZOFFSETFROM:-0800
TZOFFSETTO:-0700
TZNAME:PDT
DTSTART:20260308T100000
END:DAYLIGHT
BEGIN:STANDARD
TZOFFSETFROM:-0700
TZOFFSETTO:-0800
TZNAME:PST
DTSTART:20261101T090000
END:STANDARD
BEGIN:DAYLIGHT
TZOFFSETFROM:-0800
TZOFFSETTO:-0700
TZNAME:PDT
DTSTART:20270314T100000
END:DAYLIGHT
BEGIN:STANDARD
TZOFFSETFROM:-0700
TZOFFSETTO:-0800
TZNAME:PST
DTSTART:20271107T090000
END:STANDARD
END:VTIMEZONE
BEGIN:VEVENT
DTSTART;TZID=America/Los_Angeles:20260901T080000
DTEND;TZID=America/Los_Angeles:20260930T170000
DTSTAMP:20260423T035536
CREATED:20260121T032221Z
LAST-MODIFIED:20260311T001314Z
UID:10000026-1788249600-1790787600@www.firehogs.org
SUMMARY:9/11 LA-NYC
DESCRIPTION:The Fire Hogs will be organizing the Coast-to-Coast Ride honoring the 25th\nanniversary of 911 and those lost to it. We will also be honoring the 250\nanniversaries of our Nation and the 100-year anniversary of Route 66. Come join\nus as we leave from the World Trade Center Memorial at the FHMTC on September\n1 and we travel across county stopping at many memorial places including Winslow\nAz\, The Cadillac Ranch in TX\, Nashville\, Knoxville where we will ride the “Tail of\nthe Dragon” \, The Pentagon\, and on to NYC for two nights. From there we will\ntravel up the New England Coast\, Bar Harbor\, and across to Ohio for the Rock n\nRoll Hall of fame\, Two Nights in “Put-In-Bay”\, Ferrie over to Milwaukee for the\nHD Museum\, then down to Chicago where we will pick up Route 66 for the ride\nhome. Ride the whole way\, part way\, pick up where you want\, fly in\, rent a bike\, it\ndoesn’t matter\, just join us. Hotels will be coordinated. To be a part of this once in a\nlifetime event you must contact Jack Wise to be included.
URL:https://www.firehogs.org/event/9-11-la-nyc/
END:VEVENT
END:VCALENDAR