BEGIN:VCALENDAR
VERSION:2.0
PRODID:-//Fire Hogs M/C - ECPv6.15.20//NONSGML v1.0//EN
CALSCALE:GREGORIAN
METHOD:PUBLISH
X-WR-CALNAME:Fire Hogs M/C
X-ORIGINAL-URL:https://www.firehogs.org
X-WR-CALDESC:Events for Fire Hogs M/C
REFRESH-INTERVAL;VALUE=DURATION:PT1H
X-Robots-Tag:noindex
X-PUBLISHED-TTL:PT1H
BEGIN:VTIMEZONE
TZID:America/Los_Angeles
BEGIN:DAYLIGHT
TZOFFSETFROM:-0800
TZOFFSETTO:-0700
TZNAME:PDT
DTSTART:20240310T100000
END:DAYLIGHT
BEGIN:STANDARD
TZOFFSETFROM:-0700
TZOFFSETTO:-0800
TZNAME:PST
DTSTART:20241103T090000
END:STANDARD
BEGIN:DAYLIGHT
TZOFFSETFROM:-0800
TZOFFSETTO:-0700
TZNAME:PDT
DTSTART:20250309T100000
END:DAYLIGHT
BEGIN:STANDARD
TZOFFSETFROM:-0700
TZOFFSETTO:-0800
TZNAME:PST
DTSTART:20251102T090000
END:STANDARD
BEGIN:DAYLIGHT
TZOFFSETFROM:-0800
TZOFFSETTO:-0700
TZNAME:PDT
DTSTART:20260308T100000
END:DAYLIGHT
BEGIN:STANDARD
TZOFFSETFROM:-0700
TZOFFSETTO:-0800
TZNAME:PST
DTSTART:20261101T090000
END:STANDARD
END:VTIMEZONE
BEGIN:VEVENT
DTSTART;TZID=America/Los_Angeles:20251130T190000
DTEND;TZID=America/Los_Angeles:20251130T210000
DTSTAMP:20260423T023909
CREATED:20250828T034414Z
LAST-MODIFIED:20251029T171740Z
UID:10000007-1764529200-1764536400@www.firehogs.org
SUMMARY:Hollywood Christmas Parade
DESCRIPTION:The LAFD Fire Hogs have reserved rooms at the Best Western Sunset Plaza Hotel\, 8400 Sunset Blvd. 90069 for the Sunday night following the Hollywood Christmas Parade November 30th\nThis is the hotel across the street from the Saddle Ranch Chop House!\nCall the hotel 323 654 0750 and make a reservation under “LAFD Fire Hogs”  $139 + tax\nRooms are going to be held till November 15th so make a reservation ASAP!\nCancelation policy is 48 hours prior.\nQuestions: Taylor 562 810 4631
URL:https://www.firehogs.org/event/hollywood-christmas-parade/
END:VEVENT
END:VCALENDAR