BEGIN:VCALENDAR
VERSION:2.0
PRODID:-//Fire Hogs M/C - ECPv6.15.20//NONSGML v1.0//EN
CALSCALE:GREGORIAN
METHOD:PUBLISH
X-ORIGINAL-URL:https://www.firehogs.org
X-WR-CALDESC:Events for Fire Hogs M/C
REFRESH-INTERVAL;VALUE=DURATION:PT1H
X-Robots-Tag:noindex
X-PUBLISHED-TTL:PT1H
BEGIN:VTIMEZONE
TZID:America/Los_Angeles
BEGIN:DAYLIGHT
TZOFFSETFROM:-0800
TZOFFSETTO:-0700
TZNAME:PDT
DTSTART:20250309T100000
END:DAYLIGHT
BEGIN:STANDARD
TZOFFSETFROM:-0700
TZOFFSETTO:-0800
TZNAME:PST
DTSTART:20251102T090000
END:STANDARD
BEGIN:DAYLIGHT
TZOFFSETFROM:-0800
TZOFFSETTO:-0700
TZNAME:PDT
DTSTART:20260308T100000
END:DAYLIGHT
BEGIN:STANDARD
TZOFFSETFROM:-0700
TZOFFSETTO:-0800
TZNAME:PST
DTSTART:20261101T090000
END:STANDARD
BEGIN:DAYLIGHT
TZOFFSETFROM:-0800
TZOFFSETTO:-0700
TZNAME:PDT
DTSTART:20270314T100000
END:DAYLIGHT
BEGIN:STANDARD
TZOFFSETFROM:-0700
TZOFFSETTO:-0800
TZNAME:PST
DTSTART:20271107T090000
END:STANDARD
END:VTIMEZONE
BEGIN:VEVENT
DTSTART;TZID=America/Los_Angeles:20260918T080000
DTEND;TZID=America/Los_Angeles:20260918T170000
DTSTAMP:20260419T092452
CREATED:20260121T032414Z
LAST-MODIFIED:20260121T032430Z
UID:10000028-1789718400-1789750800@www.firehogs.org
SUMMARY:Ryan Osler Ride
DESCRIPTION:
URL:https://www.firehogs.org/event/tyan-osler-ride/
END:VEVENT
BEGIN:VEVENT
DTSTART;TZID=America/Los_Angeles:20260919T080000
DTEND;TZID=America/Los_Angeles:20260919T170000
DTSTAMP:20260419T092452
CREATED:20260121T032521Z
LAST-MODIFIED:20260121T032521Z
UID:10000029-1789804800-1789837200@www.firehogs.org
SUMMARY:Colorado Springs IAFF Firefighters Memorial
DESCRIPTION:
URL:https://www.firehogs.org/event/colorado-springs-iaff-firefighters-memorial/
END:VEVENT
BEGIN:VEVENT
DTSTART;TZID=America/Los_Angeles:20261003T080000
DTEND;TZID=America/Los_Angeles:20261003T170000
DTSTAMP:20260419T092452
CREATED:20260121T032643Z
LAST-MODIFIED:20260121T032643Z
UID:10000030-1791014400-1791046800@www.firehogs.org
SUMMARY:Calif Firefighter’s Memorial Sacramento Ca.
DESCRIPTION:
URL:https://www.firehogs.org/event/calif-firefighters-memorial-sacramento-ca/
END:VEVENT
BEGIN:VEVENT
DTSTART;TZID=America/Los_Angeles:20261010T080000
DTEND;TZID=America/Los_Angeles:20261010T170000
DTSTAMP:20260419T092452
CREATED:20260121T032732Z
LAST-MODIFIED:20260121T032732Z
UID:10000031-1791619200-1791651600@www.firehogs.org
SUMMARY:LAFRA Firefighter Memorial Services at the Museum
DESCRIPTION:
URL:https://www.firehogs.org/event/lafra-firefighter-memorial-services-at-the-museum/
END:VEVENT
BEGIN:VEVENT
DTSTART;TZID=America/Los_Angeles:20261129T080000
DTEND;TZID=America/Los_Angeles:20261129T170000
DTSTAMP:20260419T092452
CREATED:20260121T032853Z
LAST-MODIFIED:20260121T032853Z
UID:10000032-1795939200-1795971600@www.firehogs.org
SUMMARY:Hollywood Christmas Parade
DESCRIPTION:LAFD Chapter of the Fire Hogs Presents the Fire Hogs participation in the\nHollywood Christmas Parade in Hollywood CA. Dress your bike and selves up in\nholiday spirit. Meet at Mels diner by 3 pm. Diner afterwards at saddle Rack and\nstay at the Best Western. FOR PATCHED FIREHOGS\, PROSPECTS AND THEIR\nPASSENGERS ONLY. More details coming.
URL:https://www.firehogs.org/event/hollywood-christmas-parade-2/
END:VEVENT
BEGIN:VEVENT
DTSTART;TZID=America/Los_Angeles:20261219T080000
DTEND;TZID=America/Los_Angeles:20261219T170000
DTSTAMP:20260419T092452
CREATED:20260121T033032Z
LAST-MODIFIED:20260121T033032Z
UID:10000033-1797667200-1797699600@www.firehogs.org
SUMMARY:Wreaths Across America
DESCRIPTION:Join the Fire Hogs as we lay wreaths at the Veteran’s\nMemorial Cemetery. Meet at LAFD FS 37 at 830am. Lunch afterwards.
URL:https://www.firehogs.org/event/wreaths-across-america-2/
END:VEVENT
BEGIN:VEVENT
DTSTART;TZID=America/Los_Angeles:20261224T080000
DTEND;TZID=America/Los_Angeles:20261224T170000
DTSTAMP:20260419T092452
CREATED:20260121T033156Z
LAST-MODIFIED:20260121T033156Z
UID:10000034-1798099200-1798131600@www.firehogs.org
SUMMARY:Santa Claus Motorcycle Toy Ride Huntington Beach
DESCRIPTION:
URL:https://www.firehogs.org/event/santa-claus-motorcycle-toy-ride-huntington-beach/
END:VEVENT
END:VCALENDAR